BEGIN:VCALENDAR
VERSION:2.0
PRODID:-//Michaelis Energie - ECPv6.15.20//NONSGML v1.0//EN
CALSCALE:GREGORIAN
METHOD:PUBLISH
X-WR-CALNAME:Michaelis Energie
X-ORIGINAL-URL:https://michaelis-energie.de
X-WR-CALDESC:Veranstaltungen für Michaelis Energie
REFRESH-INTERVAL;VALUE=DURATION:PT1H
X-Robots-Tag:noindex
X-PUBLISHED-TTL:PT1H
BEGIN:VTIMEZONE
TZID:Europe/Berlin
BEGIN:DAYLIGHT
TZOFFSETFROM:+0100
TZOFFSETTO:+0200
TZNAME:CEST
DTSTART:20250330T010000
END:DAYLIGHT
BEGIN:STANDARD
TZOFFSETFROM:+0200
TZOFFSETTO:+0100
TZNAME:CET
DTSTART:20251026T010000
END:STANDARD
BEGIN:DAYLIGHT
TZOFFSETFROM:+0100
TZOFFSETTO:+0200
TZNAME:CEST
DTSTART:20260329T010000
END:DAYLIGHT
BEGIN:STANDARD
TZOFFSETFROM:+0200
TZOFFSETTO:+0100
TZNAME:CET
DTSTART:20261025T010000
END:STANDARD
BEGIN:DAYLIGHT
TZOFFSETFROM:+0100
TZOFFSETTO:+0200
TZNAME:CEST
DTSTART:20270328T010000
END:DAYLIGHT
BEGIN:STANDARD
TZOFFSETFROM:+0200
TZOFFSETTO:+0100
TZNAME:CET
DTSTART:20271031T010000
END:STANDARD
END:VTIMEZONE
BEGIN:VEVENT
DTSTART;TZID=Europe/Berlin:20260423T183000
DTEND;TZID=Europe/Berlin:20260423T210000
DTSTAMP:20260422T102153
CREATED:20250715T094132Z
LAST-MODIFIED:20260404T145459Z
UID:10000245-1776969000-1776978000@michaelis-energie.de
SUMMARY:Online Intensivkurs: Hellsinne & Geisteskräfte 23. April - 25. April
DESCRIPTION:Datum und Uhrzeiten: \nDonnerstag  23. April 2026 – 18:30 bis 21:00 Uhr\nFreitag         24. April 2026 – 18:30 bis 21:00 Uhr\nSamstag      25. April 2026 – 15:00 bis 18:00 Uhr \nOnline per Zoom \nKosten für die gesamte Workshop-Reihe:  165 EUR/Teilnehmer \nKeine einzelnen Tage buchbar\, nur als komplette Serie. \nVoraussetzungen:  Keine \nBegrenzte Teilnehmerzahl\, bitte rechtzeitig anmelden! \nWeitere Details auf der workshopseite \n 
URL:https://michaelis-energie.de/veranstaltung/online-intensivkurs-hellsinne-geisteskraefte-april/
LOCATION:Online
CATEGORIES:Workshops
ATTACH;FMTTYPE=image/png:https://michaelis-energie.de/wp-content/uploads/2025/04/1.png
ORGANIZER;CN="Kerstin Michaelis":MAILTO:hallo@michaelis-energie.de
END:VEVENT
BEGIN:VEVENT
DTSTART;TZID=Europe/Berlin:20260430T190000
DTEND;TZID=Europe/Berlin:20260430T190000
DTSTAMP:20260422T102153
CREATED:20250929T132911Z
LAST-MODIFIED:20260205T070357Z
UID:10000292-1777575600-1777575600@michaelis-energie.de
SUMMARY:Solar Plexus Chakra Lektionen
DESCRIPTION:Alle weiteren Details und die Möglichkeit zur Anmeldung findest du auf der Workshop Seite.
URL:https://michaelis-energie.de/veranstaltung/solar-plexus-chakra-lektionen/
LOCATION:Online
CATEGORIES:Workshops
ATTACH;FMTTYPE=image/png:https://michaelis-energie.de/wp-content/uploads/2025/06/12-Chakren-Bild-2.png
ORGANIZER;CN="Kerstin Kirsch":MAILTO:kerstin.kirsch@michaelis-energie.de
END:VEVENT
END:VCALENDAR