BEGIN:VCALENDAR
VERSION:2.0
PRODID:-//Michaelis Energie - ECPv6.15.20//NONSGML v1.0//EN
CALSCALE:GREGORIAN
METHOD:PUBLISH
X-ORIGINAL-URL:https://michaelis-energie.de
X-WR-CALDESC:Veranstaltungen für Michaelis Energie
REFRESH-INTERVAL;VALUE=DURATION:PT1H
X-Robots-Tag:noindex
X-PUBLISHED-TTL:PT1H
BEGIN:VTIMEZONE
TZID:Europe/Berlin
BEGIN:DAYLIGHT
TZOFFSETFROM:+0100
TZOFFSETTO:+0200
TZNAME:CEST
DTSTART:20250330T010000
END:DAYLIGHT
BEGIN:STANDARD
TZOFFSETFROM:+0200
TZOFFSETTO:+0100
TZNAME:CET
DTSTART:20251026T010000
END:STANDARD
BEGIN:DAYLIGHT
TZOFFSETFROM:+0100
TZOFFSETTO:+0200
TZNAME:CEST
DTSTART:20260329T010000
END:DAYLIGHT
BEGIN:STANDARD
TZOFFSETFROM:+0200
TZOFFSETTO:+0100
TZNAME:CET
DTSTART:20261025T010000
END:STANDARD
BEGIN:DAYLIGHT
TZOFFSETFROM:+0100
TZOFFSETTO:+0200
TZNAME:CEST
DTSTART:20270328T010000
END:DAYLIGHT
BEGIN:STANDARD
TZOFFSETFROM:+0200
TZOFFSETTO:+0100
TZNAME:CET
DTSTART:20271031T010000
END:STANDARD
END:VTIMEZONE
BEGIN:VEVENT
DTSTART;VALUE=DATE:20260131
DTEND;VALUE=DATE:20260202
DTSTAMP:20260422T102449
CREATED:20250119T101129Z
LAST-MODIFIED:20260114T093534Z
UID:10000111-1769817600-1769990399@michaelis-energie.de
SUMMARY:Lemurische Erdheilung – Online 1\,5 Tagesworkshop
DESCRIPTION:Alle weiteren Details und die Möglichkeit zur Anmeldung findest du auf der Workshop Seite.
URL:https://michaelis-energie.de/veranstaltung/lemurien-workshop-die-kraft-der-lemurischen-erdheilung-15-tage-7/
LOCATION:Online
CATEGORIES:Workshops
ATTACH;FMTTYPE=image/png:https://michaelis-energie.de/wp-content/uploads/2025/08/Kristalle-bunt.png
ORGANIZER;CN="Adelheid Rassmann":MAILTO:adelheid@michaelis-energie.de
END:VEVENT
BEGIN:VEVENT
DTSTART;TZID=Europe/Berlin:20260219T190000
DTEND;TZID=Europe/Berlin:20260219T190000
DTSTAMP:20260422T102449
CREATED:20250929T100819Z
LAST-MODIFIED:20260201T101744Z
UID:10000289-1771527600-1771527600@michaelis-energie.de
SUMMARY:Erdstern Chakra Lektionen
DESCRIPTION:Alle weiteren Details und die Möglichkeit zur Anmeldung findest du auf der Workshop Seite.
URL:https://michaelis-energie.de/veranstaltung/erdstern-chakra-lektionen/
LOCATION:Online
CATEGORIES:Workshops
ATTACH;FMTTYPE=image/png:https://michaelis-energie.de/wp-content/uploads/2025/06/12-Chakren-Bild-2.png
ORGANIZER;CN="Kerstin Kirsch":MAILTO:kerstin.kirsch@michaelis-energie.de
END:VEVENT
BEGIN:VEVENT
DTSTART;TZID=Europe/Berlin:20260220T180000
DTEND;TZID=Europe/Berlin:20260220T210000
DTSTAMP:20260422T102449
CREATED:20260131T093457Z
LAST-MODIFIED:20260208T195125Z
UID:10000351-1771610400-1771621200@michaelis-energie.de
SUMMARY:Reise zu deiner Monade I
DESCRIPTION:Reise zu deiner Monade \nEin 3-stündiger Workshop zur bewussten Vorbereitung auf den Weg in die Einheit \n✨ Dieser Workshop ist deine Gelegenheit zur Vorbereitung auf die Challenge Monadenverschmelzung ✨ oder einfach nur so\, weil du spürst\, dass es wichtig ist für dich. \nIn diesem Workshop schaffen wir einen geschützten Raum\, um die Grundlagen zur Monadenverschmelzung zu verstehen\, darüber eine innere Klarheit zu gewinnen und eine erste tiefe Verbindung zu deiner Seele herzustellen. \nWir sprechen darüber\,\n•	was die Monade ist und wie sie sich von der Seele unterscheidet\n•	wie dein individueller Aufstiegsweg zur Einheit aufgebaut ist\n•	welche Rolle die Antakarana-Brücke spielt\n•	wie du bewussten Kontakt zu deiner Seele\, deiner Monade aufnimmst\n•	wie du dich innerlich und energetisch auf die Monadenverschmelzungen vorbereitest \nNeben fundiertem Wissen wirst du durch geführte Wahrnehmungs- und Verbindungssequenzen begleitet\, die dir ermöglichen\, deine Seele tiefer zu spüren und den Weg zur Monade in dir zu öffnen. \n💫 Dieser Workshop ist für dich\, wenn du …\n•	dich gerufen fühlst\, deinen Aufstiegsweg bewusster zu gehen\n•	die Monadenverschmelzungen verstehen und gut vorbereitet beginnen möchtest\n•	eine tiefere Verbindung zu deiner Seele und deinem höheren Selbst suchst\n•	Teil eines größeren kollektiven Feldes sein möchtest \nWir bieten mehrere Termine an\, damit möglichst viele Menschen teilnehmen können. \n✨ Melde dich an und beginne deine Reise – die Reise zurück zu dir\, zu deiner Essenz\, zu deiner Monade. ✨ \nDieser Workshop gibt dir eine Basis\, ein gutes Fundament für deinen Aufstieg. \nVon Herz zu Herz\,\nKerstin \nAnmeldung\n\nMit Deinem Eintrag und der Bestätigung Deiner E-Mail-Adresse erhältst du die Anmeldeunterlagen zugesendet\, sowie zukünftig meinen Newsletter und Informationen zu meinen Angeboten gemäß meiner Datenschutzerklärung. Du kannst dich jederzeit wieder abmelden und ich gebe Deine Daten selbstverständlich nicht an Dritte weiter.
URL:https://michaelis-energie.de/veranstaltung/monade-1/
LOCATION:Online
CATEGORIES:Sonstige
ATTACH;FMTTYPE=image/png:https://michaelis-energie.de/wp-content/uploads/2026/01/Aufstieg_Monade-1.png
ORGANIZER;CN="Kerstin Michaelis":MAILTO:hallo@michaelis-energie.de
END:VEVENT
BEGIN:VEVENT
DTSTART;TZID=Europe/Berlin:20260222T133000
DTEND;TZID=Europe/Berlin:20260222T173000
DTSTAMP:20260422T102449
CREATED:20250902T073121Z
LAST-MODIFIED:20260108T072846Z
UID:10000281-1771767000-1771781400@michaelis-energie.de
SUMMARY:12 Chakren Aktivierung – Online Workshop
DESCRIPTION:Alle weiteren Details und die Möglichkeit zur Anmeldung findest du auf Workshop Seite.
URL:https://michaelis-energie.de/veranstaltung/12-chakren-aktivierung-online-workshop-34/
LOCATION:Online
CATEGORIES:Workshops
ATTACH;FMTTYPE=image/png:https://michaelis-energie.de/wp-content/uploads/2025/07/12-Chakren-Bild-3-2.png
ORGANIZER;CN="Adelheid Rassmann":MAILTO:adelheid@michaelis-energie.de
END:VEVENT
BEGIN:VEVENT
DTSTART;TZID=Europe/Berlin:20260228T140000
DTEND;TZID=Europe/Berlin:20260228T170000
DTSTAMP:20260422T102449
CREATED:20260221T093145Z
LAST-MODIFIED:20260221T093145Z
UID:10000358-1772287200-1772298000@michaelis-energie.de
SUMMARY:Reise zu deiner Monade I
DESCRIPTION:Reise zu deiner Monade \nEin 3-stündiger Workshop zur bewussten Vorbereitung auf den Weg in die Einheit \n✨ Dieser Workshop ist deine Gelegenheit zur Vorbereitung auf die Challenge Monadenverschmelzung ✨ oder einfach nur so\, weil du spürst\, dass es wichtig ist für dich. \nIn diesem Workshop schaffen wir einen geschützten Raum\, um die Grundlagen zur Monadenverschmelzung zu verstehen\, darüber eine innere Klarheit zu gewinnen und eine erste tiefe Verbindung zu deiner Seele herzustellen. \nWir sprechen darüber\,\n• was die Monade ist und wie sie sich von der Seele unterscheidet\n• wie dein individueller Aufstiegsweg zur Einheit aufgebaut ist\n• welche Rolle die Antakarana-Brücke spielt\n• wie du bewussten Kontakt zu deiner Seele\, deiner Monade aufnimmst\n• wie du dich innerlich und energetisch auf die Monadenverschmelzungen vorbereitest \nNeben fundiertem Wissen wirst du durch geführte Wahrnehmungs- und Verbindungssequenzen begleitet\, die dir ermöglichen\, deine Seele tiefer zu spüren und den Weg zur Monade in dir zu öffnen. \n💫 Dieser Workshop ist für dich\, wenn du …\n• dich gerufen fühlst\, deinen Aufstiegsweg bewusster zu gehen\n• die Monadenverschmelzungen verstehen und gut vorbereitet beginnen möchtest\n• eine tiefere Verbindung zu deiner Seele und deinem höheren Selbst suchst\n• Teil eines größeren kollektiven Feldes sein möchtest \nWir bieten mehrere Termine an\, damit möglichst viele Menschen teilnehmen können. \n✨ Melde dich an und beginne deine Reise – die Reise zurück zu dir\, zu deiner Essenz\, zu deiner Monade. ✨ \nDieser Workshop gibt dir eine Basis\, ein gutes Fundament für deinen Aufstieg. \nVon Herz zu Herz\,\nKerstin \nAnmeldung\n\nMit Deinem Eintrag und der Bestätigung Deiner E-Mail-Adresse erhältst du die Anmeldeunterlagen zugesendet\, sowie zukünftig meinen Newsletter und Informationen zu meinen Angeboten gemäß meiner Datenschutzerklärung. Du kannst dich jederzeit wieder abmelden und ich gebe Deine Daten selbstverständlich nicht an Dritte weiter.
URL:https://michaelis-energie.de/veranstaltung/reise-zu-deiner-monade-i/
LOCATION:Online
CATEGORIES:Sonstige
ATTACH;FMTTYPE=image/png:https://michaelis-energie.de/wp-content/uploads/2026/01/Aufstieg_Monade-1.png
ORGANIZER;CN="Kerstin Michaelis":MAILTO:hallo@michaelis-energie.de
END:VEVENT
END:VCALENDAR