BEGIN:VCALENDAR
VERSION:2.0
PRODID:-//Michaelis Energie - ECPv6.15.20//NONSGML v1.0//EN
CALSCALE:GREGORIAN
METHOD:PUBLISH
X-ORIGINAL-URL:https://michaelis-energie.de
X-WR-CALDESC:Veranstaltungen für Michaelis Energie
REFRESH-INTERVAL;VALUE=DURATION:PT1H
X-Robots-Tag:noindex
X-PUBLISHED-TTL:PT1H
BEGIN:VTIMEZONE
TZID:Europe/Berlin
BEGIN:DAYLIGHT
TZOFFSETFROM:+0100
TZOFFSETTO:+0200
TZNAME:CEST
DTSTART:20250330T010000
END:DAYLIGHT
BEGIN:STANDARD
TZOFFSETFROM:+0200
TZOFFSETTO:+0100
TZNAME:CET
DTSTART:20251026T010000
END:STANDARD
BEGIN:DAYLIGHT
TZOFFSETFROM:+0100
TZOFFSETTO:+0200
TZNAME:CEST
DTSTART:20260329T010000
END:DAYLIGHT
BEGIN:STANDARD
TZOFFSETFROM:+0200
TZOFFSETTO:+0100
TZNAME:CET
DTSTART:20261025T010000
END:STANDARD
BEGIN:DAYLIGHT
TZOFFSETFROM:+0100
TZOFFSETTO:+0200
TZNAME:CEST
DTSTART:20270328T010000
END:DAYLIGHT
BEGIN:STANDARD
TZOFFSETFROM:+0200
TZOFFSETTO:+0100
TZNAME:CET
DTSTART:20271031T010000
END:STANDARD
END:VTIMEZONE
BEGIN:VEVENT
DTSTART;TZID=Europe/Berlin:20260110T133000
DTEND;TZID=Europe/Berlin:20260110T173000
DTSTAMP:20260422T114217
CREATED:20250727T191820Z
LAST-MODIFIED:20250925T150607Z
UID:10000251-1768051800-1768066200@michaelis-energie.de
SUMMARY:12 Chakren Aktivierung – Online Workshop
DESCRIPTION:Alle weiteren Details und die Möglichkeit zur Anmeldung findest du auf Workshop Seite.
URL:https://michaelis-energie.de/veranstaltung/12-chakren-aktivierung-online-workshop-23/
LOCATION:Online
CATEGORIES:Workshops
ATTACH;FMTTYPE=image/png:https://michaelis-energie.de/wp-content/uploads/2024/02/12.png
ORGANIZER;CN="Adelheid Rassmann":MAILTO:adelheid@michaelis-energie.de
END:VEVENT
BEGIN:VEVENT
DTSTART;TZID=Europe/Berlin:20260125T100000
DTEND;TZID=Europe/Berlin:20260125T180000
DTSTAMP:20260422T114217
CREATED:20251224T134228Z
LAST-MODIFIED:20251224T134228Z
UID:10000325-1769335200-1769364000@michaelis-energie.de
SUMMARY:Einhorn Workshop "Einhornzauber"
DESCRIPTION:Alle weiteren Details und die Möglichkeit zur Anmeldung findest du auf der Workshop Seite.
URL:https://michaelis-energie.de/veranstaltung/einhorn-workshop-einhornzauber-4/
LOCATION:Online
CATEGORIES:Workshops
ATTACH;FMTTYPE=image/png:https://michaelis-energie.de/wp-content/uploads/2024/02/Einhorn-2024.png
ORGANIZER;CN="Kerstin Michaelis":MAILTO:hallo@michaelis-energie.de
END:VEVENT
BEGIN:VEVENT
DTSTART;VALUE=DATE:20260131
DTEND;VALUE=DATE:20260202
DTSTAMP:20260422T114217
CREATED:20250119T101129Z
LAST-MODIFIED:20260114T093534Z
UID:10000111-1769817600-1769990399@michaelis-energie.de
SUMMARY:Lemurische Erdheilung – Online 1\,5 Tagesworkshop
DESCRIPTION:Alle weiteren Details und die Möglichkeit zur Anmeldung findest du auf der Workshop Seite.
URL:https://michaelis-energie.de/veranstaltung/lemurien-workshop-die-kraft-der-lemurischen-erdheilung-15-tage-7/
LOCATION:Online
CATEGORIES:Workshops
ATTACH;FMTTYPE=image/png:https://michaelis-energie.de/wp-content/uploads/2025/08/Kristalle-bunt.png
ORGANIZER;CN="Adelheid Rassmann":MAILTO:adelheid@michaelis-energie.de
END:VEVENT
END:VCALENDAR