BEGIN:VCALENDAR
VERSION:2.0
PRODID:-//Michaelis Energie - ECPv6.15.20//NONSGML v1.0//EN
CALSCALE:GREGORIAN
METHOD:PUBLISH
X-ORIGINAL-URL:https://michaelis-energie.de
X-WR-CALDESC:Veranstaltungen für Michaelis Energie
REFRESH-INTERVAL;VALUE=DURATION:PT1H
X-Robots-Tag:noindex
X-PUBLISHED-TTL:PT1H
BEGIN:VTIMEZONE
TZID:Europe/Berlin
BEGIN:DAYLIGHT
TZOFFSETFROM:+0100
TZOFFSETTO:+0200
TZNAME:CEST
DTSTART:20240331T010000
END:DAYLIGHT
BEGIN:STANDARD
TZOFFSETFROM:+0200
TZOFFSETTO:+0100
TZNAME:CET
DTSTART:20241027T010000
END:STANDARD
BEGIN:DAYLIGHT
TZOFFSETFROM:+0100
TZOFFSETTO:+0200
TZNAME:CEST
DTSTART:20250330T010000
END:DAYLIGHT
BEGIN:STANDARD
TZOFFSETFROM:+0200
TZOFFSETTO:+0100
TZNAME:CET
DTSTART:20251026T010000
END:STANDARD
BEGIN:DAYLIGHT
TZOFFSETFROM:+0100
TZOFFSETTO:+0200
TZNAME:CEST
DTSTART:20260329T010000
END:DAYLIGHT
BEGIN:STANDARD
TZOFFSETFROM:+0200
TZOFFSETTO:+0100
TZNAME:CET
DTSTART:20261025T010000
END:STANDARD
END:VTIMEZONE
BEGIN:VEVENT
DTSTART;TZID=Europe/Berlin:20251101T100000
DTEND;TZID=Europe/Berlin:20251101T180000
DTSTAMP:20260422T142359
CREATED:20250619T170032Z
LAST-MODIFIED:20250925T144203Z
UID:10000214-1761991200-1762020000@michaelis-energie.de
SUMMARY:Goldenes Atlantis Basis Workshop - Online
DESCRIPTION:In den Zeiten des Goldenen Atlantis erlebte die Menschheit eine einzigartige Zeit voller spiritueller Kraft und Harmonie. Wir verfügten über außergewöhnliche Fähigkeiten und lebten im Einklang mit den universellen Energien. \nIn diesem Basis-Workshop begeben wir uns auf eine Reise in die Zeit des Goldenen Atlantis. Durch vielfältige Informationen und inspirierende Impulse aktivieren wir die tiefen Erinnerungen deiner Seele an diese Zeit und schaffen ein kraftvolles Fundament für deinen Aufstieg in die höheren Dimensionen. \nEntdecke Atlantis und wunderbare Fähigkeiten in dir! Ich begleite dich gerne auf dieser Erinnerungsreise. \nHier kannst du dich ganz einfach anmelden: adelheid@michaelis-energie.de \nIch freue mich drauf\, dich kennenzulernen! \nVon Herzen Adelheid
URL:https://michaelis-energie.de/veranstaltung/goldenes-atlantis-basis-workshop/
LOCATION:Online
CATEGORIES:Workshops
ATTACH;FMTTYPE=image/png:https://michaelis-energie.de/wp-content/uploads/2024/02/Atlantis.png
ORGANIZER;CN="Adelheid Rassmann":MAILTO:adelheid@michaelis-energie.de
END:VEVENT
BEGIN:VEVENT
DTSTART;TZID=Europe/Berlin:20251129T100000
DTEND;TZID=Europe/Berlin:20251129T180000
DTSTAMP:20260422T142359
CREATED:20250724T091006Z
LAST-MODIFIED:20250925T144137Z
UID:10000247-1764410400-1764439200@michaelis-energie.de
SUMMARY:Einhorn Workshop "Einhornzauber"
DESCRIPTION:Alle weiteren Details und die Möglichkeit zur Anmeldung findest du auf der Workshop Seite.
URL:https://michaelis-energie.de/veranstaltung/einhorn-workshop-einhornzauber-2/
LOCATION:Online
CATEGORIES:Workshops
ATTACH;FMTTYPE=image/png:https://michaelis-energie.de/wp-content/uploads/2024/02/Einhorn-2024.png
ORGANIZER;CN="Adelheid Rassmann":MAILTO:adelheid@michaelis-energie.de
END:VEVENT
END:VCALENDAR